Package: mtbls2 Version: 1.39.1 Command: /home/biocbuild/bbs-3.22-bioc/R/bin/R CMD build --keep-empty-dirs --no-resave-data mtbls2 StartedAt: 2025-10-09 11:31:36 -0400 (Thu, 09 Oct 2025) EndedAt: 2025-10-09 11:32:53 -0400 (Thu, 09 Oct 2025) EllapsedTime: 76.5 seconds RetCode: 0 Status: OK PackageFile: mtbls2_1.39.1.tar.gz PackageFileSize: 183.1 MiB