Package: mosaicsExample Version: 1.49.0 Command: /home/biocbuild/bbs-3.23-bioc/R/bin/R CMD INSTALL mosaicsExample StartedAt: 2025-10-30 10:55:23 -0400 (Thu, 30 Oct 2025) EndedAt: 2025-10-30 10:55:25 -0400 (Thu, 30 Oct 2025) EllapsedTime: 2.3 seconds RetCode: 0 Status: OK