Package: minfiDataEPIC Version: 1.37.0 Command: /home/biocbuild/bbs-3.23-bioc/R/bin/R CMD build --keep-empty-dirs --no-resave-data minfiDataEPIC StartedAt: 2025-10-30 11:27:37 -0400 (Thu, 30 Oct 2025) EndedAt: 2025-10-30 11:27:49 -0400 (Thu, 30 Oct 2025) EllapsedTime: 11.8 seconds RetCode: 0 Status: OK PackageFile: minfiDataEPIC_1.37.0.tar.gz PackageFileSize: 69.26 MiB