Package: microbiomeDataSets Version: 1.19.0 Maintainer: Leo Lahti MaintainerEmail: leo.lahti at iki.fi git_url: https://git.bioconductor.org/packages/microbiomeDataSets git_branch: devel git_last_commit: 192159c git_last_commit_date: 2025-10-29 10:03:15 -0400 (Wed, 29 Oct 2025)