Package: microRNAome Version: 1.31.0 Command: /home/biocbuild/bbs-3.22-bioc/R/bin/R CMD INSTALL microRNAome StartedAt: 2025-10-23 11:00:47 -0400 (Thu, 23 Oct 2025) EndedAt: 2025-10-23 11:01:02 -0400 (Thu, 23 Oct 2025) EllapsedTime: 15.1 seconds RetCode: 0 Status: OK