Package: lungExpression Version: 0.49.0 Command: /home/biocbuild/bbs-3.23-bioc/R/bin/R CMD INSTALL lungExpression StartedAt: 2025-10-30 10:56:15 -0400 (Thu, 30 Oct 2025) EndedAt: 2025-10-30 10:56:18 -0400 (Thu, 30 Oct 2025) EllapsedTime: 2.9 seconds RetCode: 0 Status: OK