Package: leukemiasEset Version: 1.45.0 Maintainer: Sara Aibar MaintainerEmail: saibar at usal.es git_url: https://git.bioconductor.org/packages/leukemiasEset git_branch: devel git_last_commit: bcb8d5d git_last_commit_date: 2025-04-15 09:22:32 -0400 (Tue, 15 Apr 2025)