Package: imcdatasets Version: 1.17.0 Command: /home/biocbuild/bbs-3.22-bioc/R/bin/R CMD check --install=check:imcdatasets.install-out.txt --library=/home/biocbuild/bbs-3.22-bioc/R/site-library --timings imcdatasets_1.17.0.tar.gz StartedAt: 2025-10-09 12:36:02 -0400 (Thu, 09 Oct 2025) EndedAt: 2025-10-09 12:51:55 -0400 (Thu, 09 Oct 2025) EllapsedTime: 952.9 seconds RetCode: 0 Status: OK CheckDir: imcdatasets.Rcheck Warnings: 0