Package: humanHippocampus2024 Version: 1.1.0 Command: /home/biocbuild/bbs-3.22-bioc/R/bin/R CMD INSTALL humanHippocampus2024 StartedAt: 2025-10-14 11:00:34 -0400 (Tue, 14 Oct 2025) EndedAt: 2025-10-14 11:00:57 -0400 (Tue, 14 Oct 2025) EllapsedTime: 22.3 seconds RetCode: 0 Status: OK