Package: hgu133plus2CellScore Version: 1.31.0 Command: /home/biocbuild/bbs-3.23-bioc/R/bin/R CMD build --keep-empty-dirs --no-resave-data hgu133plus2CellScore StartedAt: 2025-11-06 11:23:36 -0500 (Thu, 06 Nov 2025) EndedAt: 2025-11-06 11:24:05 -0500 (Thu, 06 Nov 2025) EllapsedTime: 29.9 seconds RetCode: 0 Status: OK PackageFile: hgu133plus2CellScore_1.31.0.tar.gz PackageFileSize: 41 MiB