Package: healthyFlowData
Version: 1.47.0
Maintainer: Ariful Azad
MaintainerEmail: aazad at purdue.edu
git_url: https://git.bioconductor.org/packages/healthyFlowData
git_branch: devel
git_last_commit: 3c448a9
git_last_commit_date: 2025-04-15 09:54:02 -0400 (Tue, 15 Apr 2025)