Package: hapmapsnp6
Version: 1.51.0
Command: /home/biocbuild/bbs-3.22-bioc/R/bin/R CMD check --install=check:hapmapsnp6.install-out.txt --library=/home/biocbuild/bbs-3.22-bioc/R/site-library --timings hapmapsnp6_1.51.0.tar.gz
StartedAt: 2025-07-24 12:28:28 -0400 (Thu, 24 Jul 2025)
EndedAt: 2025-07-24 12:30:42 -0400 (Thu, 24 Jul 2025)
EllapsedTime: 133.8 seconds
RetCode: 0
Status: OK
CheckDir: hapmapsnp6.Rcheck
Warnings: 0