Package: hapmapsnp6
Version: 1.51.0
Command: /home/biocbuild/bbs-3.22-bioc/R/bin/R CMD build --keep-empty-dirs --no-resave-data hapmapsnp6
StartedAt: 2025-05-15 11:20:50 -0400 (Thu, 15 May 2025)
EndedAt: 2025-05-15 11:24:56 -0400 (Thu, 15 May 2025)
EllapsedTime: 245.8 seconds
RetCode: 0
Status: OK
PackageFile: hapmapsnp6_1.51.0.tar.gz
PackageFileSize: 263.2 <A href="http://en.wikipedia.org/wiki/MiB" target="_blank">MiB</A>