Package: hapmapsnp6 Version: 1.53.0 Command: /home/biocbuild/bbs-3.23-bioc/R/bin/R CMD INSTALL hapmapsnp6 StartedAt: 2025-10-30 10:55:30 -0400 (Thu, 30 Oct 2025) EndedAt: 2025-10-30 10:55:56 -0400 (Thu, 30 Oct 2025) EllapsedTime: 25.2 seconds RetCode: 0 Status: OK