Package: hapmap500ksty Version: 1.53.0 Command: /home/biocbuild/bbs-3.23-bioc/R/bin/R CMD INSTALL hapmap500ksty StartedAt: 2025-11-06 10:55:32 -0500 (Thu, 06 Nov 2025) EndedAt: 2025-11-06 10:55:33 -0500 (Thu, 06 Nov 2025) EllapsedTime: 1.7 seconds RetCode: 0 Status: OK