Package: hapmap100kxba Version: 1.53.0 Maintainer: Benilton Carvalho MaintainerEmail: Benilton.Carvalho at cancer.org.uk git_url: https://git.bioconductor.org/packages/hapmap100kxba git_branch: devel git_last_commit: 2549fab git_last_commit_date: 2025-10-29 09:30:51 -0400 (Wed, 29 Oct 2025)