Package: h5vcData Version: 2.29.0 Command: /home/biocbuild/bbs-3.22-bioc/R/bin/R CMD INSTALL h5vcData StartedAt: 2025-10-02 10:55:26 -0400 (Thu, 02 Oct 2025) EndedAt: 2025-10-02 10:55:27 -0400 (Thu, 02 Oct 2025) EllapsedTime: 1.4 seconds RetCode: 0 Status: OK