Package: gpaExample Version: 1.23.0 Command: /home/biocbuild/bbs-3.23-bioc/R/bin/R CMD INSTALL gpaExample StartedAt: 2025-10-30 10:56:00 -0400 (Thu, 30 Oct 2025) EndedAt: 2025-10-30 10:56:02 -0400 (Thu, 30 Oct 2025) EllapsedTime: 1.9 seconds RetCode: 0 Status: OK