Package: furrowSeg Version: 1.37.0 Command: /home/biocbuild/bbs-3.22-bioc/R/bin/R CMD INSTALL furrowSeg StartedAt: 2025-10-14 10:57:50 -0400 (Tue, 14 Oct 2025) EndedAt: 2025-10-14 10:57:56 -0400 (Tue, 14 Oct 2025) EllapsedTime: 5.9 seconds RetCode: 0 Status: OK