Package: furrowSeg Version: 1.37.0 Command: /home/biocbuild/bbs-3.22-bioc/R/bin/R CMD build --keep-empty-dirs --no-resave-data furrowSeg StartedAt: 2025-10-16 11:18:23 -0400 (Thu, 16 Oct 2025) EndedAt: 2025-10-16 11:23:28 -0400 (Thu, 16 Oct 2025) EllapsedTime: 305.3 seconds RetCode: 0 Status: OK PackageFile: furrowSeg_1.37.0.tar.gz PackageFileSize: 349.3 MiB