Package: flowWorkspaceData Version: 3.23.0 Command: /home/biocbuild/bbs-3.23-bioc/R/bin/R CMD build --keep-empty-dirs --no-resave-data flowWorkspaceData StartedAt: 2025-10-30 11:16:21 -0400 (Thu, 30 Oct 2025) EndedAt: 2025-10-30 11:16:37 -0400 (Thu, 30 Oct 2025) EllapsedTime: 15.6 seconds RetCode: 0 Status: OK PackageFile: flowWorkspaceData_3.23.0.tar.gz PackageFileSize: 71.15 MiB