Package: fission Version: 1.29.0 Command: /home/biocbuild/bbs-3.22-bioc/R/bin/R CMD INSTALL fission StartedAt: 2025-10-23 10:59:43 -0400 (Thu, 23 Oct 2025) EndedAt: 2025-10-23 10:59:59 -0400 (Thu, 23 Oct 2025) EllapsedTime: 16.8 seconds RetCode: 0 Status: OK