Package: ffpeExampleData Version: 1.49.0 Command: /home/biocbuild/bbs-3.23-bioc/R/bin/R CMD build --keep-empty-dirs --no-resave-data ffpeExampleData StartedAt: 2025-10-30 11:15:36 -0400 (Thu, 30 Oct 2025) EndedAt: 2025-10-30 11:15:37 -0400 (Thu, 30 Oct 2025) EllapsedTime: 1.3 seconds RetCode: 0 Status: OK PackageFile: ffpeExampleData_1.49.0.tar.gz PackageFileSize: 6.727 MiB