Package: eoPredData
Version: 1.3.0
Maintainer: Victor Yuan
MaintainerEmail: victor.2wy at gmail.com
git_url: https://git.bioconductor.org/packages/eoPredData
git_branch: devel
git_last_commit: 8015437
git_last_commit_date: 2025-04-15 10:24:48 -0400 (Tue, 15 Apr 2025)