Package: diffloopdata Version: 1.39.0 Command: /home/biocbuild/bbs-3.23-bioc/R/bin/R CMD build --keep-empty-dirs --no-resave-data diffloopdata StartedAt: 2025-10-30 11:12:59 -0400 (Thu, 30 Oct 2025) EndedAt: 2025-10-30 11:13:10 -0400 (Thu, 30 Oct 2025) EllapsedTime: 11.0 seconds RetCode: 0 Status: OK PackageFile: diffloopdata_1.39.0.tar.gz PackageFileSize: 11.08 MiB