Package: derfinderData
Version: 2.27.0
Command: /home/biocbuild/bbs-3.22-bioc/R/bin/R CMD build --keep-empty-dirs --no-resave-data derfinderData
StartedAt: 2025-05-27 11:15:14 -0400 (Tue, 27 May 2025)
EndedAt: 2025-05-27 11:15:22 -0400 (Tue, 27 May 2025)
EllapsedTime: 8.0 seconds
RetCode: 0
Status: OK
PackageFile: derfinderData_2.27.0.tar.gz
PackageFileSize: 25.57 <A href="http://en.wikipedia.org/wiki/MiB" target="_blank">MiB</A>