Package: davidTiling Version: 1.51.0 Command: /home/biocbuild/bbs-3.23-bioc/R/bin/R CMD INSTALL davidTiling StartedAt: 2025-10-30 10:57:43 -0400 (Thu, 30 Oct 2025) EndedAt: 2025-10-30 10:58:35 -0400 (Thu, 30 Oct 2025) EllapsedTime: 52.1 seconds RetCode: 0 Status: OK