Package: davidTiling Version: 1.51.0 Command: /home/biocbuild/bbs-3.23-bioc/R/bin/R CMD build --keep-empty-dirs --no-resave-data davidTiling StartedAt: 2025-10-30 11:12:23 -0400 (Thu, 30 Oct 2025) EndedAt: 2025-10-30 11:13:27 -0400 (Thu, 30 Oct 2025) EllapsedTime: 64.1 seconds RetCode: 0 Status: OK PackageFile: davidTiling_1.51.0.tar.gz PackageFileSize: 537.7 MiB