Package: curatedPCaData Version: 1.7.0 Command: /home/biocbuild/bbs-3.23-bioc/R/bin/R CMD INSTALL curatedPCaData StartedAt: 2025-10-30 10:59:34 -0400 (Thu, 30 Oct 2025) EndedAt: 2025-10-30 11:00:18 -0400 (Thu, 30 Oct 2025) EllapsedTime: 44.2 seconds RetCode: 0 Status: OK