Package: curatedPCaData Version: 1.7.0 Maintainer: Teemu Daniel Laajala MaintainerEmail: teelaa at utu.fi git_url: https://git.bioconductor.org/packages/curatedPCaData git_branch: devel git_last_commit: 29ec7b9 git_last_commit_date: 2025-10-29 10:06:05 -0400 (Wed, 29 Oct 2025)