Package: curatedAdipoRNA Version: 1.25.0 Command: /home/biocbuild/bbs-3.22-bioc/R/bin/R CMD INSTALL curatedAdipoRNA StartedAt: 2025-10-09 11:03:16 -0400 (Thu, 09 Oct 2025) EndedAt: 2025-10-09 11:03:38 -0400 (Thu, 09 Oct 2025) EllapsedTime: 22.5 seconds RetCode: 0 Status: OK