Package: curatedAdipoArray Version: 1.23.0 Command: /home/biocbuild/bbs-3.23-bioc/R/bin/R CMD build --keep-empty-dirs --no-resave-data curatedAdipoArray StartedAt: 2025-10-30 11:10:35 -0400 (Thu, 30 Oct 2025) EndedAt: 2025-10-30 11:10:50 -0400 (Thu, 30 Oct 2025) EllapsedTime: 14.9 seconds RetCode: 0 Status: OK PackageFile: curatedAdipoArray_1.23.0.tar.gz PackageFileSize: 36.27 KiB