Package: clustifyrdatahub Version: 1.21.0 Command: /home/biocbuild/bbs-3.23-bioc/R/bin/R CMD build --keep-empty-dirs --no-resave-data clustifyrdatahub StartedAt: 2025-10-30 11:09:31 -0400 (Thu, 30 Oct 2025) EndedAt: 2025-10-30 11:10:08 -0400 (Thu, 30 Oct 2025) EllapsedTime: 37.0 seconds RetCode: 0 Status: OK PackageFile: clustifyrdatahub_1.21.0.tar.gz PackageFileSize: 299.9 KiB