Package: celldex
Version: 1.19.0
Command: /home/biocbuild/bbs-3.22-bioc/R/bin/R CMD INSTALL celldex
StartedAt: 2025-05-15 11:02:39 -0400 (Thu, 15 May 2025)
EndedAt: 2025-05-15 11:03:12 -0400 (Thu, 15 May 2025)
EllapsedTime: 32.3 seconds
RetCode: 0
Status: OK