Package: celldex Version: 1.19.0 Command: /home/biocbuild/bbs-3.22-bioc/R/bin/R CMD build --keep-empty-dirs --no-resave-data celldex StartedAt: 2025-05-15 11:08:54 -0400 (Thu, 15 May 2025) EndedAt: 2025-05-15 11:09:53 -0400 (Thu, 15 May 2025) EllapsedTime: 58.7 seconds RetCode: 0 Status: OK PackageFile: celldex_1.19.0.tar.gz PackageFileSize: 402.6 <A href="http://en.wikipedia.org/wiki/KiB" target="_blank">KiB</A>