Package: cMap2data Version: 1.45.0 Command: /home/biocbuild/bbs-3.22-bioc/R/bin/R CMD build --keep-empty-dirs --no-resave-data cMap2data StartedAt: 2025-05-15 11:10:58 -0400 (Thu, 15 May 2025) EndedAt: 2025-05-15 11:11:12 -0400 (Thu, 15 May 2025) EllapsedTime: 13.9 seconds RetCode: 0 Status: OK PackageFile: cMap2data_1.45.0.tar.gz PackageFileSize: 27.94 <A href="http://en.wikipedia.org/wiki/MiB" target="_blank">MiB</A>