Package: cMap2data Version: 1.47.0 Maintainer: J. Saez-Rodriguez MaintainerEmail: saezrodriguez at ebi.ac.uk git_url: https://git.bioconductor.org/packages/cMap2data git_branch: devel git_last_commit: 14e6577 git_last_commit_date: 2025-10-29 09:52:58 -0400 (Wed, 29 Oct 2025)