Package: bronchialIL13 Version: 1.47.0 Command: /home/biocbuild/bbs-3.22-bioc/R/bin/R CMD INSTALL bronchialIL13 StartedAt: 2025-05-01 10:56:10 -0400 (Thu, 01 May 2025) EndedAt: 2025-05-01 10:56:14 -0400 (Thu, 01 May 2025) EllapsedTime: 4.6 seconds RetCode: 0 Status: OK