Package: bronchialIL13 Version: 1.47.0 Command: /home/biocbuild/bbs-3.22-bioc/R/bin/R CMD build --keep-empty-dirs --no-resave-data bronchialIL13 StartedAt: 2025-05-01 11:08:58 -0400 (Thu, 01 May 2025) EndedAt: 2025-05-01 11:09:06 -0400 (Thu, 01 May 2025) EllapsedTime: 7.7 seconds RetCode: 0 Status: OK PackageFile: bronchialIL13_1.47.0.tar.gz PackageFileSize: 69.13 MiB