Package: bladderbatch Version: 1.49.0 Command: /home/biocbuild/bbs-3.23-bioc/R/bin/R CMD INSTALL bladderbatch StartedAt: 2025-10-30 10:56:21 -0400 (Thu, 30 Oct 2025) EndedAt: 2025-10-30 10:56:23 -0400 (Thu, 30 Oct 2025) EllapsedTime: 2.0 seconds RetCode: 0 Status: OK