Package: biscuiteerData Version: 1.23.0 Command: /home/biocbuild/bbs-3.22-bioc/R/bin/R CMD build --keep-empty-dirs --no-resave-data biscuiteerData StartedAt: 2025-05-15 11:08:01 -0400 (Thu, 15 May 2025) EndedAt: 2025-05-15 11:08:33 -0400 (Thu, 15 May 2025) EllapsedTime: 32.1 seconds RetCode: 0 Status: OK PackageFile: biscuiteerData_1.23.0.tar.gz PackageFileSize: 188.3 <A href="http://en.wikipedia.org/wiki/KiB" target="_blank">KiB</A>