##############################################################################
##############################################################################
###
### Running command:
###
###   /home/biocbuild/bbs-3.22-bioc/R/bin/R CMD build --keep-empty-dirs --no-resave-data biscuiteerData
###
##############################################################################
##############################################################################


* checking for file ‘biscuiteerData/DESCRIPTION’ ... OK
* preparing ‘biscuiteerData’:
* checking DESCRIPTION meta-information ... OK
* installing the package to build vignettes
* creating vignettes ... OK
* checking for LF line-endings in source and make files and shell scripts
* checking for empty or unneeded directories
* building ‘biscuiteerData_1.23.1.tar.gz’