Package: biotmleData Version: 1.33.0 Command: /home/biocbuild/bbs-3.22-bioc/R/bin/R CMD INSTALL biotmleData StartedAt: 2025-10-02 10:55:15 -0400 (Thu, 02 Oct 2025) EndedAt: 2025-10-02 10:55:31 -0400 (Thu, 02 Oct 2025) EllapsedTime: 16.7 seconds RetCode: 0 Status: OK