Package: bcellViper Version: 1.45.0 Command: /home/biocbuild/bbs-3.22-bioc/R/bin/R CMD INSTALL bcellViper StartedAt: 2025-05-15 10:56:07 -0400 (Thu, 15 May 2025) EndedAt: 2025-05-15 10:56:10 -0400 (Thu, 15 May 2025) EllapsedTime: 2.4 seconds RetCode: 0 Status: OK