Package: bcellViper Version: 1.45.0 Command: /home/biocbuild/bbs-3.22-bioc/R/bin/R CMD build --keep-empty-dirs --no-resave-data bcellViper StartedAt: 2025-10-09 11:06:46 -0400 (Thu, 09 Oct 2025) EndedAt: 2025-10-09 11:06:54 -0400 (Thu, 09 Oct 2025) EllapsedTime: 7.5 seconds RetCode: 0 Status: OK PackageFile: bcellViper_1.45.0.tar.gz PackageFileSize: 11.34 MiB