Package: WeberDivechaLCdata Version: 1.11.0 Command: /home/biocbuild/bbs-3.22-bioc/R/bin/R CMD INSTALL WeberDivechaLCdata StartedAt: 2025-10-14 10:59:11 -0400 (Tue, 14 Oct 2025) EndedAt: 2025-10-14 10:59:42 -0400 (Tue, 14 Oct 2025) EllapsedTime: 30.3 seconds RetCode: 0 Status: OK