Package: WeberDivechaLCdata Version: 1.11.0 Command: /home/biocbuild/bbs-3.22-bioc/R/bin/R CMD build --keep-empty-dirs --no-resave-data WeberDivechaLCdata StartedAt: 2025-10-14 11:48:36 -0400 (Tue, 14 Oct 2025) EndedAt: 2025-10-14 11:50:22 -0400 (Tue, 14 Oct 2025) EllapsedTime: 106.3 seconds RetCode: 0 Status: OK PackageFile: WeberDivechaLCdata_1.11.0.tar.gz PackageFileSize: 223.6 KiB