Package: WGSmapp Version: 1.21.0 Command: /home/biocbuild/bbs-3.22-bioc/R/bin/R CMD INSTALL WGSmapp StartedAt: 2025-10-21 10:58:15 -0400 (Tue, 21 Oct 2025) EndedAt: 2025-10-21 10:59:00 -0400 (Tue, 21 Oct 2025) EllapsedTime: 45.0 seconds RetCode: 0 Status: OK