Package: VariantToolsData Version: 1.35.0 Command: /home/biocbuild/bbs-3.23-bioc/R/bin/R CMD INSTALL VariantToolsData StartedAt: 2025-10-30 11:03:12 -0400 (Thu, 30 Oct 2025) EndedAt: 2025-10-30 11:03:48 -0400 (Thu, 30 Oct 2025) EllapsedTime: 36.3 seconds RetCode: 0 Status: OK