Package: VariantToolsData Version: 1.35.0 Command: /home/biocbuild/bbs-3.23-bioc/R/bin/R CMD build --keep-empty-dirs --no-resave-data VariantToolsData StartedAt: 2025-10-30 11:43:12 -0400 (Thu, 30 Oct 2025) EndedAt: 2025-10-30 11:44:09 -0400 (Thu, 30 Oct 2025) EllapsedTime: 57.0 seconds RetCode: 0 Status: OK PackageFile: VariantToolsData_1.35.0.tar.gz PackageFileSize: 200.7 MiB